BEGIN:VCALENDAR
PRODID:-//github.com/ical-org/ical.net//NONSGML ical.net 4.0//EN
VERSION:2.0
BEGIN:VEVENT
DESCRIPTION:Ismét megrendezésre kerül a Veszprémi Triatlon Fesztivál! Rész
 letek hamarosan...
DTSTAMP:20260419T150831Z
DTSTART;VALUE=DATE:20260524
GEO:47.094681;17.906112
LOCATION:Veszprém\nVeszprém
SEQUENCE:0
SUMMARY:IV. Veszprém Triatlon Fesztivál
UID:52f5f2f3-f760-4a6f-8e77-0d4c36b68ff1
END:VEVENT
END:VCALENDAR
