BEGIN:VCALENDAR
PRODID:-//github.com/ical-org/ical.net//NONSGML ical.net 4.0//EN
VERSION:2.0
BEGIN:VEVENT
DESCRIPTION:Veszprémben újra rendel az egészség-karaván: gyors\, térítésme
 ntes vizsgálatok és személyes tanácsadás.
DTEND:20260321T160000Z
DTSTAMP:20260421T103058Z
DTSTART:20260321T090000Z
GEO:47.094249;17.906207
LOCATION:Óváros tér\nVeszprém\, Óváros tér
SEQUENCE:0
SUMMARY:Ingyenes egészségügyi szűrővizsgálatok Veszprémben
UID:f29f9e3e-cb2e-4e6e-9593-410c80f8914c
END:VEVENT
END:VCALENDAR
