BEGIN:VCALENDAR
PRODID:-//github.com/ical-org/ical.net//NONSGML ical.net 4.0//EN
VERSION:2.0
BEGIN:VEVENT
DESCRIPTION:Helyi ízek és közösségi élmény minden szombaton!
DTEND:20261226T170000Z
DTSTAMP:20260421T142102Z
DTSTART:20260103T063000Z
GEO:46.832869;17.431990
LOCATION:Hegymagas\nHegymagas
SEQUENCE:0
SUMMARY:Hegymagasi Piactér
UID:2052391c-7e3d-4d17-bf92-46f72cb696ef
END:VEVENT
END:VCALENDAR
