BEGIN:VCALENDAR
PRODID:-//github.com/ical-org/ical.net//NONSGML ical.net 4.0//EN
VERSION:2.0
BEGIN:VEVENT
DESCRIPTION:Hamburger Világnap – ikonikus burgerek az Echo Étteremben
DTEND:20260529T180000Z
DTSTAMP:20260421T171809Z
DTSTART:20260529T093000Z
GEO:46.916223;17.887978
LOCATION:Echo Restaurant & Cafe\nTihany\, Alsóóvári u. 1
SEQUENCE:0
SUMMARY:Hamburger Világnap - Echo Étterem
UID:af9473da-8939-4479-99ff-8663c1bf6583
END:VEVENT
END:VCALENDAR
