BEGIN:VCALENDAR
PRODID:-//github.com/ical-org/ical.net//NONSGML ical.net 4.0//EN
VERSION:2.0
BEGIN:VEVENT
DESCRIPTION:Hamburger Világnap – különleges burgerek az Apátsági Rege Cukr
 ászdában
DTEND:20260529T180000Z
DTSTAMP:20260421T172233Z
DTSTART:20260529T060000Z
GEO:46.913232;17.889796
LOCATION:Apátsági Rege Cukrászda\nTihany\, Kossuth Lajos u. 22
SEQUENCE:0
SUMMARY:Hamburger Világnap - Apátsági Rege Cukrászda
UID:ee2871ab-0977-4a04-98af-5f5bac789d27
END:VEVENT
END:VCALENDAR
