BEGIN:VCALENDAR
PRODID:-//github.com/ical-org/ical.net//NONSGML ical.net 4.0//EN
VERSION:2.0
BEGIN:VEVENT
DESCRIPTION:Ingyenes közösségi futás\, melyre szeretettel várunk minden fu
 tót.
DTEND:20260217T230000Z
DTSTAMP:20260421T031320Z
DTSTART:20260217T173000Z
GEO:47.091959;17.906928
LOCATION:Színházkert\nVeszprém\, Óvári Ferenc út 2
SEQUENCE:0
SUMMARY:Haladó futás - VeszpRun
UID:30f048d1-3dea-4cdd-9096-ddeede8cf0b8
END:VEVENT
END:VCALENDAR
