BEGIN:VCALENDAR
PRODID:-//github.com/ical-org/ical.net//NONSGML ical.net 4.0//EN
VERSION:2.0
BEGIN:VEVENT
DESCRIPTION:Gin kóstoló és workshop – balatoni ízek Keszthelyen\, Taste Ba
 laton keretében!
DTEND:20260314T210000Z
DTSTAMP:20260421T102514Z
DTSTART:20260314T170000Z
GEO:46.762966;17.242837
LOCATION:John's Pub - Bar & Kitchen\nKeszthely\, Kossuth Lajos u. 46
SEQUENCE:0
SUMMARY:Ginek a Balaton Körül – Gin Kóstoló és Gin & Tonic Workshop
UID:5bc82272-2d5a-455d-8d6e-fc09deec309d
END:VEVENT
END:VCALENDAR
