BEGIN:VCALENDAR
PRODID:-//github.com/ical-org/ical.net//NONSGML ical.net 4.0//EN
VERSION:2.0
BEGIN:VEVENT
DESCRIPTION:Gerinctorna foglalkozás Sármelléken. Helyszín: 8391 Sármellék\
 , Dózsa Gy. u. 348. (Egészségház - VitálPont)
DTEND:20261230T230000Z
DTSTAMP:20260420T162701Z
DTSTART:20260331T220000Z
GEO:46.716928;17.170461
LOCATION:Sármellék\nSármellék
SEQUENCE:0
SUMMARY:Gerinctorna
UID:0a7df431-ad84-4ace-9d8c-40a591deea88
END:VEVENT
END:VCALENDAR
