BEGIN:VCALENDAR
PRODID:-//github.com/ical-org/ical.net//NONSGML ical.net 4.0//EN
VERSION:2.0
BEGIN:VEVENT
DESCRIPTION:Aerobik óra Zsuzsival\nIdőpont: Minden szerdán 17:00\nHelyszín
 : Olaszfalu\, Tornaterem (Váci Mihály utca 17)
DTEND:20260408T161700Z
DTSTAMP:20260421T031547Z
DTSTART:20260408T150000Z
GEO:47.241670;17.911504
LOCATION:Olaszfalu\nOlaszfalu
SEQUENCE:0
SUMMARY:Generációk mozgásban - Aerobik Olaszfaluban
UID:75491513-fbf0-4f9f-a99c-403a569eb944
END:VEVENT
END:VCALENDAR
