BEGIN:VCALENDAR
PRODID:-//github.com/ical-org/ical.net//NONSGML ical.net 4.0//EN
VERSION:2.0
BEGIN:VEVENT
DESCRIPTION:Tematikus gasztrohétvégék és borélmények Badacsonyban!
DTEND;VALUE=DATE:20260510
DTSTAMP:20260420T163828Z
DTSTART;VALUE=DATE:20260509
GEO:46.802527;17.510874
LOCATION:Badacsonytomaj\nBadacsonytomaj
SEQUENCE:0
SUMMARY:Gasztrohegy Badacsony
UID:03cc49f9-87c7-4d04-bd08-1fce6a5263cd
END:VEVENT
END:VCALENDAR
