BEGIN:VCALENDAR
PRODID:-//github.com/ical-org/ical.net//NONSGML ical.net 4.0//EN
VERSION:2.0
BEGIN:VEVENT
DESCRIPTION:GasztroFok Tavasz – tavaszi gasztroélmények Siófokon
DTEND:20260426T200000Z
DTSTAMP:20260421T141505Z
DTSTART:20260425T090000Z
GEO:46.909006;18.074742
LOCATION:Siófok\nSiófok
SEQUENCE:0
SUMMARY:GasztroFok Tavasz
UID:4f98bb51-e4ac-4c83-925a-a5c4067c675d
END:VEVENT
END:VCALENDAR
