BEGIN:VCALENDAR
PRODID:-//github.com/ical-org/ical.net//NONSGML ical.net 4.0//EN
VERSION:2.0
BEGIN:VEVENT
DESCRIPTION:Az immerzív jóga egy olyan közösségi mozgásélmény\, ahol a fén
 y\, a hang és a tér együtt segít lelassulni és visszakapcsolódni a tested
 hez és a belső egyensúlyodhoz.\nNem csak edzés – egy állapot\, amibe megé
 rkezel.
DTEND:20260527T174500Z
DTSTAMP:20260421T102155Z
DTSTART:20260422T163000Z
GEO:47.092425;17.903931
LOCATION:CODE Kiállítóterek\nVeszprém\, Dózsa György utca 2
SEQUENCE:0
SUMMARY:Flow & Balance – immerzív jóga
UID:da0cd2c8-c75b-429e-88ff-d2ce1f746bcc
END:VEVENT
END:VCALENDAR
