BEGIN:VCALENDAR
PRODID:-//github.com/ical-org/ical.net//NONSGML ical.net 4.0//EN
VERSION:2.0
BEGIN:VEVENT
DTEND:20260218T200000Z
DTSTAMP:20260421T064219Z
DTSTART:20260218T180000Z
GEO:47.086679;17.910347
LOCATION:Liget Boulder\nVeszprém\, Hóvirág utca 1
SEQUENCE:0
SUMMARY:Falmászás – VESC
UID:5540fa5c-833a-43a7-876f-5d3374b23181
END:VEVENT
END:VCALENDAR
