BEGIN:VCALENDAR
PRODID:-//github.com/ical-org/ical.net//NONSGML ical.net 4.0//EN
VERSION:2.0
BEGIN:VEVENT
DESCRIPTION:Fagylalt Világnap – kézműves fagylaltok a Rege Cukrászdában
DTEND:20260508T180000Z
DTSTAMP:20260421T141617Z
DTSTART:20260508T060000Z
GEO:46.913232;17.889796
LOCATION:Apátsági Rege Cukrászda\nTihany\, Kossuth Lajos u. 22
SEQUENCE:0
SUMMARY:Fagylalt Világnap - Apátsági Rege Cukrászda
UID:9a213f27-ded9-4059-bd75-9ae7e749916e
END:VEVENT
END:VCALENDAR
