BEGIN:VCALENDAR
PRODID:-//github.com/ical-org/ical.net//NONSGML ical.net 4.0//EN
VERSION:2.0
BEGIN:VEVENT
DESCRIPTION:Energia\, ami mögötte van – látogatás 80+ erőműben egy éjszaka
  alatt
DTSTAMP:20260421T084205Z
DTSTART;VALUE=DATE:20251017
GEO:47.102809;17.909302
LOCATION:Országos vagy régiós helyszín\nVeszprém
SEQUENCE:0
SUMMARY:Erőművek Éjszakája 2025 - MEKH
UID:11fe1246-fbf9-4bc9-8855-47b73082a456
END:VEVENT
END:VCALENDAR
