BEGIN:VCALENDAR
PRODID:-//github.com/ical-org/ical.net//NONSGML ical.net 4.0//EN
VERSION:2.0
BEGIN:VEVENT
DESCRIPTION:Engedd el! De hogyan? Akarva\, de nem görcsösen? Meditálva\, f
 ehér gyertya füstjében? Az El Caminót járva hátrafelé?
DTEND:20251015T180000Z
DTSTAMP:20260419T133445Z
DTSTART:20251015T163000Z
GEO:47.220282;18.116121
LOCATION:Thury-vár\nVárpalota\, Hunyadi Mátyás tér 1
SEQUENCE:0
SUMMARY:Engedd el!
UID:e39f9e10-7fa0-492d-a024-66afe86962f7
END:VEVENT
END:VCALENDAR
