BEGIN:VCALENDAR
PRODID:-//github.com/ical-org/ical.net//NONSGML ical.net 4.0//EN
VERSION:2.0
BEGIN:VEVENT
DESCRIPTION:Echo Piknik – piknik\, DJ-zene és balatoni panoráma Tihanyban
DTEND:20260425T190000Z
DTSTAMP:20260421T142230Z
DTSTART:20260425T130000Z
GEO:46.916223;17.887978
LOCATION:Echo Restaurant & Cafe\nTihany\, Alsóóvári u. 1
SEQUENCE:0
SUMMARY:Echo Piknik a Visszhang-Dombon - Echo Fesztivál
UID:d27bb92c-d99c-4309-9bc4-dc55e9dac095
END:VEVENT
END:VCALENDAR
