BEGIN:VCALENDAR
PRODID:-//github.com/ical-org/ical.net//NONSGML ical.net 4.0//EN
VERSION:2.0
BEGIN:VEVENT
DESCRIPTION:Angol nyelvű drámafesztivál általános és középiskolások valami
 nt egyetemista csoportoknak
DTEND:20260531T120000Z
DTSTAMP:20260419T152056Z
DTSTART:20260529T070000Z
GEO:47.090505;17.906624
LOCATION:American Corner Veszprém\nVeszprém\, Komakút tér 3
SEQUENCE:0
SUMMARY:Drama in Veszprem! - 16th Theatre Festival in English
UID:da8c6081-0599-4717-93af-2e13c52ab5ea
END:VEVENT
END:VCALENDAR
