BEGIN:VCALENDAR
PRODID:-//github.com/ical-org/ical.net//NONSGML ical.net 4.0//EN
VERSION:2.0
BEGIN:VEVENT
DESCRIPTION:Közösségi sportélmény Zamárdiban\, több távon\, gyermekfutamok
 kal és kerékpártúrával.
DTEND:20260919T130000Z
DTSTAMP:20260421T084106Z
DTSTART:20260919T060000Z
GEO:46.884632;17.936400
LOCATION:Zamárdi Nagystrand\nZamárdi\, Margó Ede sétány 14
SEQUENCE:0
SUMMARY:dm Balaton Run 2026
UID:a71d3f42-8639-4f0b-bb84-0f31228e8fe4
END:VEVENT
END:VCALENDAR
