BEGIN:VCALENDAR
PRODID:-//github.com/ical-org/ical.net//NONSGML ical.net 4.0//EN
VERSION:2.0
BEGIN:VEVENT
DESCRIPTION:Az 1848-49-es forradalom és szabadságharc ünnepén együtt vigad
 unk: klasszikus disznótoros fogásaink és finom boraink mellé egész nap ci
 gányzenészek húzzák majd a nótát.
DTEND:20260315T200000Z
DTSTAMP:20260421T103410Z
DTSTART:20260315T110000Z
GEO:46.980535;17.908015
LOCATION:Petrányi Csopak\nCsopak\, Homokbánya u. 31
SEQUENCE:0
SUMMARY:Disznótoros és cigányzene a Petrányi Borteraszon
UID:31ed2a0e-489b-43e4-b931-f835dbaf2155
END:VEVENT
END:VCALENDAR
