BEGIN:VCALENDAR
PRODID:-//github.com/ical-org/ical.net//NONSGML ical.net 4.0//EN
VERSION:2.0
BEGIN:VEVENT
DESCRIPTION:Élménypárti tókerülés több szinten\, családbarát opciók\, brin
 gás közösség egész nap Siófokon.
DTEND:20260530T190000Z
DTSTAMP:20260421T173543Z
DTSTART:20260530T030000Z
GEO:46.909006;18.074742
LOCATION:Siófok\nSiófok
SEQUENCE:0
SUMMARY:Cofidis Tour de Balaton 2026
UID:d60160a4-89df-4c2a-94f4-33594b89968d
END:VEVENT
END:VCALENDAR
