BEGIN:VCALENDAR
PRODID:-//github.com/ical-org/ical.net//NONSGML ical.net 4.0//EN
VERSION:2.0
BEGIN:VEVENT
DESCRIPTION:Bukfenc Akadémia szervezése a Herend és környékbeli települése
 k (Márkó\, Bánd\, Szentgál) nagycsoportos korosztályú óvodásai részére. A
  cél játékos formában megszerettetni a gyermekekkel a mozgást\, sportot.
DTEND:20260414T093000Z
DTSTAMP:20260420T162701Z
DTSTART:20260414T083000Z
GEO:47.133764;17.742183
LOCATION:Herendi Kenguru Torna Club Sportegyesület \nHerend
SEQUENCE:0
SUMMARY:Bukfenc Akadémia
UID:582fa2ce-628c-4e53-a97b-79dd44c7791f
END:VEVENT
END:VCALENDAR
