BEGIN:VCALENDAR
PRODID:-//github.com/ical-org/ical.net//NONSGML ical.net 4.0//EN
VERSION:2.0
BEGIN:VEVENT
DESCRIPTION:Borkóstolók és élmények Badacsonyban és a Balaton-felvidéken!
DTEND;VALUE=DATE:20260530
DTSTAMP:20260421T114855Z
DTSTART;VALUE=DATE:20260131
GEO:46.789500;17.506067
LOCATION:Badacsonyi Turisztikai és Borút Egyesület – Tourinform iroda\nBad
 acsonytomaj\, Badacsony\, Park u. 20
SEQUENCE:0
SUMMARY:Borbarangolás Borvacsorák Badacsonyban és környékén
UID:34ec3fb3-4996-48ec-8e17-da0fff029d22
END:VEVENT
END:VCALENDAR
