BEGIN:VCALENDAR
PRODID:-//github.com/ical-org/ical.net//NONSGML ical.net 4.0//EN
VERSION:2.0
BEGIN:VEVENT
DESCRIPTION:Borbarangolás – badacsonyi borvacsora gasztroélménnyel
DTEND:20260314T190000Z
DTSTAMP:20260421T101106Z
DTSTART:20260314T153000Z
GEO:46.809264;17.544754
LOCATION:Folly Arborétum és Borászat \nBadacsonytomaj\, Badacsonyörs\, Káp
 olnavölgyi út 25
SEQUENCE:0
SUMMARY:Borbarangolás borvacsora
UID:078f6b5f-d067-4123-8a09-3816dcdef6cd
END:VEVENT
END:VCALENDAR
