BEGIN:VCALENDAR
PRODID:-//github.com/ical-org/ical.net//NONSGML ical.net 4.0//EN
VERSION:2.0
BEGIN:VEVENT
DESCRIPTION:Egy igazi hedonista délutánra invitáljuk\, ahol a csokoládékho
 z különleges borpárosításokkal készülünk.
DTEND:20260313T170000Z
DTSTAMP:20260421T102705Z
DTSTART:20260313T150000Z
GEO:46.980535;17.908015
LOCATION:Petrányi Csopak\nCsopak\, Homokbánya u. 31
SEQUENCE:0
SUMMARY:Bor & Bonbon kóstoló csokoládékészítéssel
UID:a95bad97-915c-4880-8867-222f2a787387
END:VEVENT
END:VCALENDAR
