BEGIN:VCALENDAR
PRODID:-//github.com/ical-org/ical.net//NONSGML ical.net 4.0//EN
VERSION:2.0
BEGIN:VEVENT
DESCRIPTION:60 perces\, mozgásalapú wellbeing-élmény Albert Kinga\, testor
 ientált terapeuta\, BodyWork facilitátor és pszichoedukációs szakember ve
 zetésével.
DTEND:20260320T170000Z
DTSTAMP:20260420T220406Z
DTSTART:20260320T160000Z
GEO:46.955675;17.606851
LOCATION:MűvészVölgy Kúria\nKapolcs\, Kossuth u. 48
SEQUENCE:0
SUMMARY:BodyWork: testtudatosság fejlesztés sétával és nordic walking gyak
 orlatokkal
UID:f6d26a47-e9ad-4aba-8236-4ce1ef75b6e1
END:VEVENT
END:VCALENDAR
