BEGIN:VCALENDAR
PRODID:-//github.com/ical-org/ical.net//NONSGML ical.net 4.0//EN
VERSION:2.0
BEGIN:VEVENT
DESCRIPTION:Az immerzív pilates egy olyan közösségi mozgásélmény\, ahol a 
 fény\, a hang és a tér együtt segít lelassulni és visszakapcsolódni a tes
 tedhez és a belső egyensúlyodhoz.\nNem csak edzés – egy állapot\, amibe m
 egérkezel.
DTEND:20260525T173000Z
DTSTAMP:20260421T100729Z
DTSTART:20260420T163000Z
GEO:47.092425;17.903931
LOCATION:CODE Kiállítóterek\nVeszprém\, Dózsa György utca 2
SEQUENCE:0
SUMMARY:Body in Light – immerzív pilates
UID:6ad67ff1-2fbe-4363-bcb4-2aad9b73bc9e
END:VEVENT
END:VCALENDAR
