BEGIN:VCALENDAR
PRODID:-//github.com/ical-org/ical.net//NONSGML ical.net 4.0//EN
VERSION:2.0
BEGIN:VEVENT
DESCRIPTION:A kortárs magyar üvegművészet két kiemelkedő alakjának\, Bohus
  Zoltánnak és Lugossy Máriának különleges\, egyedülálló alkotásaiból nyíl
 ik a Laczkó Dezső Múzeum új kiállítása.
DTEND:20260531T160000Z
DTSTAMP:20260421T085345Z
DTSTART:20251121T090000Z
GEO:47.090495;17.909170
LOCATION:Laczkó Dezső Múzeum\nVeszprém\, Erzsébet stny. 1
SEQUENCE:0
SUMMARY:Az üveg alkímiája - Válogatás Bohus Zoltán és Lugossy Mária hagyat
 éki gyűjteményéből
UID:95ac99af-3dd9-4895-97fa-e0b235250fa5
END:VEVENT
END:VCALENDAR
