BEGIN:VCALENDAR
PRODID:-//github.com/ical-org/ical.net//NONSGML ical.net 4.0//EN
VERSION:2.0
BEGIN:VEVENT
DESCRIPTION:Az Igazi Olasz Pasta Titkai – kézzel készült tészta workshop
DTEND:20260425T090000Z
DTSTAMP:20260421T141722Z
DTSTART:20260425T070000Z
GEO:46.915631;17.888488
LOCATION:Villa Pisky\nTihany\, Halász-köz 9
SEQUENCE:0
SUMMARY:Az Igazi Olasz Pasta Titkai - Tésztakészítő Workshop
UID:f7bb1f98-2bfc-4632-963e-0cb9df4effdb
END:VEVENT
END:VCALENDAR
