BEGIN:VCALENDAR
PRODID:-//github.com/ical-org/ical.net//NONSGML ical.net 4.0//EN
VERSION:2.0
BEGIN:VEVENT
DESCRIPTION:Aradi vértanúk emléknapja – ünnepi megemlékezés Balatonfüreden
DTEND:20251006T120000Z
DTSTAMP:20260419T130706Z
DTSTART:20251006T100000Z
GEO:46.956557;17.878392
LOCATION:Aradi vértanúk parkja\nBalatonfüred\, Köztársaság u. 5
SEQUENCE:0
SUMMARY:Aradi vértanúk emléknapja
UID:4c92f335-14c0-4f79-b556-21330b588c78
END:VEVENT
END:VCALENDAR
