BEGIN:VCALENDAR
PRODID:-//github.com/ical-org/ical.net//NONSGML ical.net 4.0//EN
VERSION:2.0
BEGIN:VEVENT
DESCRIPTION:Kondicionális fejlesztés\, mely közben kiszakadunk a mindennap
 i rohanásból és stresszből egy laza hangulatú\, de erősítő\, alakformáló 
 zenés mozgással.\n
DTEND;VALUE=DATE:20260531
DTSTAMP:20260420T042251Z
DTSTART;VALUE=DATE:20260202
GEO:47.081003;18.028575
LOCATION:Balaton Uszoda\nBalatonfűzfő\, Fűzfőgyártelep\, Uszoda utca 1
SEQUENCE:0
SUMMARY:Aquafitness - Balatonfűzfő\, Balaton uszoda
UID:5a391f75-c4f6-4ddd-9d6a-c1a6b78bb61a
END:VEVENT
END:VCALENDAR
