BEGIN:VCALENDAR
PRODID:-//github.com/ical-org/ical.net//NONSGML ical.net 4.0//EN
VERSION:2.0
BEGIN:VEVENT
DESCRIPTION:Angol nyelvű társalgási klub
DTEND:20260625T153000Z
DTSTAMP:20260419T152518Z
DTSTART:20260205T153000Z
GEO:47.090505;17.906624
LOCATION:American Corner Veszprém\nVeszprém\, Komakút tér 3
SEQUENCE:0
SUMMARY:Angol nyelvű társalgási klub csütörtökönként - Conversation Club/
UID:a1f8a7d6-5cfd-4e54-9b83-9967a4be6555
END:VEVENT
END:VCALENDAR
