BEGIN:VCALENDAR
PRODID:-//github.com/ical-org/ical.net//NONSGML ical.net 4.0//EN
VERSION:2.0
BEGIN:VEVENT
DESCRIPTION:Egész évben elérhető\, játékos és ismeretterjesztő programok B
 adacsonyörsön: arborétumi séta\, felfedező játékok\, kiállítások és esti 
 fényfestés.
DTEND;VALUE=DATE:20270131
DTSTAMP:20260420T195503Z
DTSTART;VALUE=DATE:20260224
GEO:46.809264;17.544754
LOCATION:Folly Arborétum és Borászat \nBadacsonytomaj\, Badacsonyörs\, Káp
 olnavölgyi út 25
SEQUENCE:0
SUMMARY:Állandó programok a Folly Arborétumban
UID:5516dc1a-8bbb-4930-8b1c-102cee4a4d89
END:VEVENT
END:VCALENDAR
