BEGIN:VCALENDAR
PRODID:-//github.com/ical-org/ical.net//NONSGML ical.net 4.0//EN
VERSION:2.0
BEGIN:VEVENT
DESCRIPTION:A  Gyöngyhalász Latin Trió tradicionális alapokra épülő latin 
 zenét játszik akusztikus hangszerelésben. Fellépéseiken sorra kerülnek a 
 karibi világ kedvelt és ismert dalai\, de egzotikus színfoltként játszana
 k „saját gyűjtéseket” is pl. a Kanári-szigetekről\, Peruból\, vagy Bolívi
 ából.
DTEND:20260530T170000Z
DTSTAMP:20260420T220657Z
DTSTART:20260530T160000Z
GEO:46.955675;17.606851
LOCATION:MűvészVölgy Kúria\nKapolcs\, Kossuth u. 48
SEQUENCE:0
SUMMARY:A Gyöngyhalász Trió koncertje latin táncházzal
UID:feb27644-8dae-4947-b205-2fb565b48da1
END:VEVENT
END:VCALENDAR
