BEGIN:VCALENDAR
PRODID:-//github.com/ical-org/ical.net//NONSGML ical.net 4.0//EN
VERSION:2.0
BEGIN:VEVENT
DESCRIPTION:Az éter hív! WYAC 2026: ahol a sport és a technológia találkoz
 ik a fiatal tehetségekkel.
DTEND;VALUE=DATE:20260705
DTSTAMP:20260419T181813Z
DTSTART;VALUE=DATE:20260701
GEO:47.094681;17.906112
LOCATION:Veszprém\nVeszprém
SEQUENCE:0
SUMMARY:8. Ifjúsági Rádiós Tájfutó Világbajnokság
UID:3c7465e1-b993-4ddd-8757-a1645a7e3047
END:VEVENT
END:VCALENDAR
