BEGIN:VCALENDAR
PRODID:-//github.com/ical-org/ical.net//NONSGML ical.net 4.0//EN
VERSION:2.0
BEGIN:VEVENT
DESCRIPTION:Megismerheted\, hogyan élte meg a város a szabadságharc idősza
 kát\, kik voltak a helyi hősök\, és milyen események formálták a veszprém
 i polgárok sorsát.
DTEND:20260315T113000Z
DTSTAMP:20260421T085039Z
DTSTART:20260315T093000Z
GEO:47.093898;17.906603
LOCATION:Tourinform Veszprém\nVeszprém\, Óváros tér 2
SEQUENCE:0
SUMMARY:1848 – A forradalom nyomában óvóhely bejárással
UID:9e25910f-a766-49b4-bccb-a811b0711539
END:VEVENT
END:VCALENDAR
