BEGIN:VCALENDAR
PRODID:-//github.com/ical-org/ical.net//NONSGML ical.net 4.0//EN
VERSION:2.0
BEGIN:VEVENT
DESCRIPTION:In the spirit of lightness before summer\, this evening is all
  about bubbles.\nSparkling wine\, pét-nat\, Prosecco\, Champagne – famili
 ar names\, but do we really know what lies behind them?
DTEND:20260430T163000Z
DTSTAMP:20260421T154134Z
DTSTART:20260430T150000Z
GEO:46.953453;17.891706
LOCATION:Zelna Wine Bistro\nBalatonfüred\, Zákonyi Ferenc u. 3
SEQUENCE:0
SUMMARY:Sparkling wine tasting in Balatonfüred – Vino Mater wine culture c
 lub at Zelna Bistro.
UID:878ef5e5-0bda-434f-bf13-0efafea3b249
END:VEVENT
END:VCALENDAR
