BEGIN:VCALENDAR
PRODID:-//github.com/ical-org/ical.net//NONSGML ical.net 4.0//EN
VERSION:2.0
BEGIN:VEVENT
DESCRIPTION:A Spring Getaway Among the Vineyards of Lake Balaton – Walking
 \, Nature\, and Wine Tasting.
DTEND:20260502T123000Z
DTSTAMP:20260421T154124Z
DTSTART:20260502T090000Z
GEO:46.953453;17.891706
LOCATION:Zelna Wine Bistro\nBalatonfüred\, Zákonyi Ferenc u. 3
SEQUENCE:0
SUMMARY:Spring Vineyard Tour and Wine Tasting with Zelna Winery in Balaton
 füred
UID:79e9899f-1d19-42e2-94b0-f462fd0773db
END:VEVENT
END:VCALENDAR
