BEGIN:VCALENDAR
PRODID:-//github.com/ical-org/ical.net//NONSGML ical.net 4.0//EN
VERSION:2.0
BEGIN:VEVENT
DESCRIPTION:You have to laugh\, that's all there is to it – a musical caba
 ret at Thury Castle
DTEND:20260428T183000Z
DTSTAMP:20260419T175015Z
DTSTART:20260428T170000Z
GEO:47.220282;18.116121
LOCATION:Thury Castle\nVárpalota
SEQUENCE:0
SUMMARY:You have to laugh\, that's all there is to it - Thury Castle
UID:8abf5c00-3476-4cb7-8941-52b016462f14
END:VEVENT
END:VCALENDAR
