BEGIN:VCALENDAR
PRODID:-//github.com/ical-org/ical.net//NONSGML ical.net 4.0//EN
VERSION:2.0
BEGIN:VEVENT
DESCRIPTION:Yoga is for everyone. It is suitable for all\, regardless of a
 ge\, gender\, physical abilities\, or condition.
DTEND:20260204T171500Z
DTSTAMP:20260420T233431Z
DTSTART:20260204T160000Z
GEO:46.955675;17.606851
LOCATION:ArtValley Hall\nKapolcs\, Kossuth u. 48
SEQUENCE:0
SUMMARY:Yoga with Zsófi
UID:97559af2-1829-4579-937b-922f0ad71694
END:VEVENT
END:VCALENDAR
