BEGIN:VCALENDAR
PRODID:-//github.com/ical-org/ical.net//NONSGML ical.net 4.0//EN
VERSION:2.0
BEGIN:VEVENT
DESCRIPTION:World Ice Cream Day – Artisanal Ice Cream at Rege Confectionery
DTEND:20260508T180000Z
DTSTAMP:20260421T155210Z
DTSTART:20260508T060000Z
GEO:46.913232;17.889796
LOCATION:Abbey Rege Dessert Shop\n
SEQUENCE:0
SUMMARY:World Ice Cream Day - Apátsági Rege Pastry Shop
UID:f3e0f0f9-c301-44a2-94bd-6b56eeee5075
END:VEVENT
END:VCALENDAR
