BEGIN:VCALENDAR
PRODID:-//github.com/ical-org/ical.net//NONSGML ical.net 4.0//EN
VERSION:2.0
BEGIN:VEVENT
DESCRIPTION:World Burger Day – Special Burgers at Apátsági Rege Pastry Shop
DTEND:20260530T180000Z
DTSTAMP:20260421T173252Z
DTSTART:20260530T060000Z
GEO:46.913232;17.889796
LOCATION:Abbey Rege Dessert Shop\n
SEQUENCE:0
SUMMARY:World Hamburger Day - Apátsági Rege Pastry Shop
UID:2a2ac670-8470-4c41-b447-8b0417a41836
END:VEVENT
END:VCALENDAR
