BEGIN:VCALENDAR
PRODID:-//github.com/ical-org/ical.net//NONSGML ical.net 4.0//EN
VERSION:2.0
BEGIN:VEVENT
DESCRIPTION:Wine tastings and experiences in Badacsony and the Balaton Upl
 ands
DTEND;VALUE=DATE:20260530
DTSTAMP:20260421T131014Z
DTSTART;VALUE=DATE:20260131
GEO:46.789500;17.506067
LOCATION:Badacsonyi Turisztikai és Borút Egyesület – Tourinform office\nBa
 dacsonytomaj\, Badacsony\, Park u. 20
SEQUENCE:0
SUMMARY:Wine tasting Wine dinners in Badacsony and the surrounding area
UID:6a5b0dbc-6192-4f26-ba5b-ad950eef42c0
END:VEVENT
END:VCALENDAR
