BEGIN:VCALENDAR
PRODID:-//github.com/ical-org/ical.net//NONSGML ical.net 4.0//EN
VERSION:2.0
BEGIN:VEVENT
DESCRIPTION:A moderate-intensity\, functional bodyweight workout based on 
 natural movement patterns\, designed to improve posture and breathing\, s
 trengthen core muscles\, and enhance joint mobility and endurance.
DTEND:20260401T173000Z
DTSTAMP:20260420T182052Z
DTSTART:20260401T163000Z
GEO:46.922752;17.550130
LOCATION:Mesevirág Preschool and Daycare Center Gymnasium\nMonostorapáti\,
  Óvoda u. 5
SEQUENCE:0
SUMMARY:VitálApáti - Functional Training
UID:a7cd9cd7-99bd-444b-9dc0-ab40a8e439f7
END:VEVENT
END:VCALENDAR
