BEGIN:VCALENDAR
PRODID:-//github.com/ical-org/ical.net//NONSGML ical.net 4.0//EN
VERSION:2.0
BEGIN:VEVENT
DESCRIPTION:Did you know that you can skate and party at ice discos in Ves
 zprém until April?
DTEND;VALUE=DATE:20260405
DTSTAMP:20260419T144721Z
DTSTART;VALUE=DATE:20251129
GEO:47.109376;17.900821
LOCATION:Ice Rink Veszprém\nVeszprém\, Tüzér u.
SEQUENCE:0
SUMMARY:Veszprém Ice Rink public skating
UID:800b34a0-61a8-4ce9-9e33-63e7320a99d6
END:VEVENT
END:VCALENDAR
