BEGIN:VCALENDAR
PRODID:-//github.com/ical-org/ical.net//NONSGML ical.net 4.0//EN
VERSION:2.0
BEGIN:VEVENT
DESCRIPTION:Tihany Jump & Brunch – Jumping Workout and Brunch with a Panor
 amic View
DTEND:20260425T090000Z
DTSTAMP:20260421T155608Z
DTSTART:20260425T080000Z
GEO:46.916223;17.887978
LOCATION:Echo Restaurant & Cafe\nTihany\, Visszhang u. 23
SEQUENCE:0
SUMMARY:Tihany Jump & Brunch - Echo Festival
UID:ebfbb007-1c7e-4022-a9ff-12254e739c93
END:VEVENT
END:VCALENDAR
