BEGIN:VCALENDAR
PRODID:-//github.com/ical-org/ical.net//NONSGML ical.net 4.0//EN
VERSION:2.0
BEGIN:VEVENT
DESCRIPTION:This year\, we are presenting the exhibition "Ripening Into Go
 ld" by ceramic artist Orsolya Pattantyús and glass artist Gergely Pattant
 yús as part of the Spring Exhibition\; they won the individual exhibition
  award in 2024.
DTEND:20260525T160000Z
DTSTAMP:20260421T114412Z
DTSTART:20260305T160000Z
GEO:47.094942;17.905053
LOCATION:Csikász Gallery\nVeszprém\, Vár u. 17
SEQUENCE:0
SUMMARY:Ripening Into Gold / Exhibition by Orsolya Pattantyús and Gergely 
 Pattantyús
UID:b7174ac6-3e48-4bde-b136-f794815164a2
END:VEVENT
END:VCALENDAR
