BEGIN:VCALENDAR
PRODID:-//github.com/ical-org/ical.net//NONSGML ical.net 4.0//EN
VERSION:2.0
BEGIN:VEVENT
DESCRIPTION:The Secrets of Authentic Italian Pasta – Handmade Pasta Worksh
 op
DTEND:20260425T090000Z
DTSTAMP:20260421T154333Z
DTSTART:20260425T070000Z
GEO:46.915631;17.888488
LOCATION:Villa Pisky\nTihany\, Halász-köz 9
SEQUENCE:0
SUMMARY:The Secrets of Authentic Italian Pasta - Pasta-Making Workshop
UID:cab19068-788e-4bee-8dcd-67b92184c773
END:VEVENT
END:VCALENDAR
