BEGIN:VCALENDAR
PRODID:-//github.com/ical-org/ical.net//NONSGML ical.net 4.0//EN
VERSION:2.0
BEGIN:VEVENT
DESCRIPTION:May 1st Long Weekend – Springtime Fun at Folly
DTEND:20260501T190000Z
DTSTAMP:20260420T214945Z
DTSTART:20260501T080000Z
GEO:46.809264;17.544754
LOCATION:Folly Arboretum and Winery\nBadacsonytomaj\, Badacsonyörs\, Kápol
 navölgyi út 25
SEQUENCE:0
SUMMARY:May 1st Long Weekend at Folly
UID:f32c72d7-7f24-4635-860c-c288d7c0964b
END:VEVENT
END:VCALENDAR
