BEGIN:VCALENDAR
PRODID:-//github.com/ical-org/ical.net//NONSGML ical.net 4.0//EN
VERSION:2.0
BEGIN:VEVENT
DESCRIPTION:Pilates and spinal exercises strengthen the core muscles\, imp
 rove posture\, and increase flexibility and stability\, while providing a
  full-body workout.
DTEND:20260520T170000Z
DTSTAMP:20260421T082731Z
DTSTART:20260520T160000Z
GEO:47.124144;17.817446
LOCATION:Márkó\n
SEQUENCE:0
SUMMARY:Community on the Move – Márkó 2026 Pilates
UID:dd5c65a3-67db-473e-bf4b-5f2fa3b08782
END:VEVENT
END:VCALENDAR
